BEGIN:VCALENDAR
VERSION:2.0
PRODID:Imitheme.com 
BEGIN:VEVENT
UID:20260424T104941347225449
DTSTAMP;TZID=UTC:2026-04-24 10:49:41
DTSTART;TZID=America/Los_Angeles:20211028T000000
DTEND;TZID=America/Los_Angeles:20211028T000000
SUMMARY:2 napos Arcserve technikai tréning
LOCATION:HRP Oktatóterem – Budapest (1034)\, Huszti út 34.
DESCRIPTION:Kedves Partnerünk! 2 napos intenzív tréningre hívunk Téged, melynek tematikája az arcserve UDP 8-as változata lesz, valamint bemutatjuk az arcserve új, StorageCraft termékcsaládját, amely kimagasló kiegészítő védelmet jelent a zsarolóvírus-támadás ellen. Oktatásunk gyakorlati feladatokon alapul, mérnöki tudást igényel. A REGISZTRÁCIÓ LEZÁRULT AGENDA A 2 NAPRA - 2021. október 28. (csütörtök) - 9:30-10:00 ▸ Regisztráció - 10:00-12:15 ▸ I. blokk - 12:15-13:30 ▸ Ebéd - 13:30-16:00 ▸ II. blokk - 2021. október 29. (péntek) - 9:30-10:00 ▸ Regisztráció - 10:00-12:15 ▸ I. blokk - 12:15-13:30 ▸ Ebéd - 13:30-16:00 ▸ II. blokk Helyszín: HRP Europe Kft. oktatóterme (megközelítés a FixDirect felől) Fizetős parkolás: FixDirect Kft. előtti parkolóban lehetséges (hozd magaddal a készpénzzel váltott jegyedet és nap végén megtérítjük a parkolás díját) Oktatásunk ingyenes, azonban regisztrációhoz kötött. Előadónk Jung Tamás Principal Consultant, Technical Sales Arcserve
URL:https://arcserve.sk/eventer/2-napos-arcserve-technikai-trening/
END:VEVENT
END:VCALENDAR
