BEGIN:VCALENDAR
VERSION:2.0
PRODID:Imitheme.com 
BEGIN:VEVENT
UID:20260424T083445933829329
DTSTAMP;TZID=UTC:2026-04-24 08:34:45
DTSTART;TZID=America/Los_Angeles:20230803T000000
DTEND;TZID=America/Los_Angeles:20230803T000000
SUMMARY:Arcserve webinársorozat 1.rész
LOCATION:Online esemény
DESCRIPTION:Figyelem! Ez az a webinár ugyan már véget ért, de utólagos regisztrációt követően bármikor visszanézhető! × Dismiss this alert. Sokszor hallottad már mindenfelé: Az adat az új arany? Ahhoz, hogy az adataid biztonságban legyenek, nagyon fontos a megfelelő mentési megoldások használata. M365 környezetet használsz? Vannak tippjeink, hogy mit kell tenned, hogy minden adatod biztonságban legyen. Az Arcserve cég 40 év tapasztalattal javasol mentési megoldásokat, hogy megvédjük adataidat a legmodernebb technológiák segítségével! Készülj fel, mert augusztus 3-án, egy rendkívüli webináron osztjuk meg tapasztalatainkat. Az Arcserve portfóliójában minden felmerülő kérdésedre megtalálod a választ! Lépj a biztonság új korszakába velünk! Regisztráció Az alábbi témákra fogunk fókuszálni - Betekintés az Arcserve portfóliójába: Egy 40 év tapasztalattal rendelkező cég legújabb fejlesztései - Az Arcserve SaaS Backup mentés a gyakorlatban: Tudd adataid mindig biztonságban! Felhős mentés a legmodernebb technológiákkal - Az M365 és Teams rendszerekre leselkedő veszélyek: Ne hagyd, hogy a fenyegetések megzavarjanak a napi munkában! - Hogyan védekezzünk a zsarolóvírusos támadások ellen: Bízzuk a profikra, a sokoldalú Arcserve Appliance termékek Előadónk Jung Tamás Principal Consultant, Technical Sales Arcserve
URL:https://arcserve.sk/eventer/arcserve-webinarsorozat-1-resz/
END:VEVENT
END:VCALENDAR
