BEGIN:VCALENDAR
VERSION:2.0
PRODID:Imitheme.com 
BEGIN:VEVENT
UID:20260424T104713412435647
DTSTAMP;TZID=UTC:2026-04-24 10:47:13
DTSTART;TZID=America/Los_Angeles:20230907T000000
DTEND;TZID=America/Los_Angeles:20230907T000000
SUMMARY:SEC-Tour Garden 2023
LOCATION:Granada Konferencia\, Wellness és Sport Hotel – Kecskemét (6000)\, Harmónia utca 12.
DESCRIPTION:Felgyorsult világunkban napi szinten találkozunk IT biztonsági incidensekkel, hallunk a médiából és a szakmából számtalan mennyiségben ezekről. Nem érezheti egy IT szakember sem eléggé biztonságba a cégét. Nincs más út mint folyamatosan tanulva figyelemmel kisérni a biztonsági piac alakulását. Fontos látni és tudni mindent a különböző biztonsági technológiákról, és persze tisztában lenni a hazai szolgáltatók kompetenciájával is. Ezt mind folyamatosan nyomon követni szinte lehetetlen feladat a napi munka mellett. Ezért van szükség olyan hazai IT biztonsági rendezvényekre, ahol egy időben egy helyen a legtöbb információ gyűjthető össze lehetőleg sallangmentesen. Mi úgy gondoljuk, hogy ezeknek a rendezvényeknek nincsen szüksége ideológiákra, vagy nagyot mondó vezérfonalakra, egyszerűen a problémák és megoldásuk bemutatása kell, hogy legyen a fő cél. A SEC-Tour célja kezdetektől fogva ugyan az maradt, egy asztalhoz ültetni az információbiztonság fejlesztéséért tenni vágyó IT és információbiztonsági vezetőket, valamint a szegmensben működő vállalkozásokat olyan környezetben, ahol a stratégiai és szakmai beszélgetéseken kívül a kapcsolatépítésé a főszerep. További információk Amikor találkozhatsz velünk - 2023.09.07. csütörtök, 14:30 - 15:20: Hálózatbiztonság és Mentés-helyreállítás szerepe Ransomware támadás esetén - Kerekasztal beszélgetés Előadónk Horváth Richárd Business Development Manager HRP Europe Kft.
URL:https://arcserve.sk/eventer/sec-tour-garden-2023/
END:VEVENT
END:VCALENDAR
